BEGIN:VCALENDAR
VERSION:2.0
PRODID:icalendar-ruby
CALSCALE:GREGORIAN
BEGIN:VEVENT
DTSTAMP:20260419T142957Z
UID:90f977b9-bf6a-4c8d-97ff-a84a1ea01948
DTSTART;TZID=Pacific/Auckland:20260429T113000
DTEND;TZID=Pacific/Auckland:20260429T133000
DESCRIPTION:Property ID# 604825\nLocation: Harcourts Auction Rooms\, 1 Thir
 d Avenue\, Tauranga (Unless Sold Prior)\nTime: 2026-04-29 11:30:00 +1200\n
 https://www.nz.open2view.com/properties/604825
SUMMARY:Auction for 5 Fremont Way
END:VEVENT
END:VCALENDAR
