BEGIN:VCALENDAR
VERSION:2.0
PRODID:icalendar-ruby
CALSCALE:GREGORIAN
BEGIN:VEVENT
DTSTAMP:20260420T182900Z
UID:45d90a91-c9b7-4519-84f9-17852ef4762d
DTSTART;TZID=Pacific/Auckland:20260513T120000
DTEND;TZID=Pacific/Auckland:20260513T140000
DESCRIPTION:Property ID# 606195\nLocation: Clark & Co Realty\, 7 Mana Espla
 nade Paremata.\nTime: 2026-05-13 12:00:00 +1200\nhttps://www.nz.open2view.
 com/properties/606195
SUMMARY:Deadline Marketing for 2/14 Jillett Street
END:VEVENT
END:VCALENDAR
