BEGIN:VCALENDAR
VERSION:2.0
PRODID:icalendar-ruby
CALSCALE:GREGORIAN
BEGIN:VEVENT
DTSTAMP:20260420T182901Z
UID:f5c8a981-33fd-4dc7-a8be-85fb3376f78c
DTSTART;TZID=Pacific/Auckland:20260514T120000
DTEND;TZID=Pacific/Auckland:20260514T140000
DESCRIPTION:Property ID# 606277\nLocation: East Realty\, 293 Cameron Road\,
  Tauranga (Unless Sold Prior)\nTime: 2026-05-14 12:00:00 +1200\nhttps://ww
 w.nz.open2view.com/properties/606277
SUMMARY:Deadline Private Treaty for 23 Bertrowe Drive
END:VEVENT
END:VCALENDAR
