BEGIN:VCALENDAR
VERSION:2.0
PRODID:icalendar-ruby
CALSCALE:GREGORIAN
BEGIN:VEVENT
DTSTAMP:20260425T194059Z
UID:8bc7cc94-3b56-49fd-b322-090226bcf7c9
DTSTART;TZID=Pacific/Auckland:20260429T110000
DTEND;TZID=Pacific/Auckland:20260429T130000
DESCRIPTION:Property ID# 606398\nLocation: 603 Great South Road Manukau unl
 ess sold prior\nTime: 2026-04-29 11:00:00 +1200\nhttps://www.nz.open2view.
 com/properties/606398
SUMMARY:Auction for 1D Ainsdale Place
END:VEVENT
END:VCALENDAR
