BEGIN:VCALENDAR
VERSION:2.0
PRODID:icalendar-ruby
CALSCALE:GREGORIAN
BEGIN:VEVENT
DTSTAMP:20260423T022339Z
UID:e263be7b-1008-4f8d-9e9d-466a5bf93e81
DTSTART;TZID=Pacific/Auckland:20260507T110000
DTEND;TZID=Pacific/Auckland:20260507T130000
DESCRIPTION:Property ID# 606444\nLocation: Harcourts Grenadier 98 Moorhouse
  Avenue\nTime: 2026-05-07 11:00:00 +1200\nhttps://www.nz.open2view.com/pro
 perties/606444
SUMMARY:Auction for 16 Rosebery Street
END:VEVENT
END:VCALENDAR
