BEGIN:VCALENDAR
VERSION:2.0
PRODID:icalendar-ruby
CALSCALE:GREGORIAN
BEGIN:VEVENT
DTSTAMP:20260423T022339Z
UID:2a9c9f08-31ae-4be8-a9bf-3b662977a779
DTSTART;TZID=Pacific/Auckland:20260507T110000
DTEND;TZID=Pacific/Auckland:20260507T130000
DESCRIPTION:Property ID# 606445\nLocation: Harcourts Grenadier 98 Moorhouse
  Avenue\nTime: 2026-05-07 11:00:00 +1200\nhttps://www.nz.open2view.com/pro
 perties/606445
SUMMARY:Auction for 28A Croydon Street
END:VEVENT
END:VCALENDAR
