BEGIN:VCALENDAR
VERSION:2.0
PRODID:icalendar-ruby
CALSCALE:GREGORIAN
BEGIN:VEVENT
DTSTAMP:20260423T022350Z
UID:b7123f31-af6e-4ba8-85a4-0975f79daed6
DTSTART;TZID=Pacific/Auckland:20260507T110000
DTEND;TZID=Pacific/Auckland:20260507T130000
DESCRIPTION:Property ID# 606448\nLocation: Harcourts Grenadier 98 Moorhouse
  Avenue \nTime: 2026-05-07 11:00:00 +1200\nhttps://www.nz.open2view.com/pr
 operties/606448
SUMMARY:Auction for 2/180 Lyttelton Street
END:VEVENT
END:VCALENDAR
