BEGIN:VCALENDAR
VERSION:2.0
PRODID:icalendar-ruby
CALSCALE:GREGORIAN
BEGIN:VEVENT
DTSTAMP:20260423T201331Z
UID:56c03e04-91a0-4f2e-b162-5ac28038b32f
DTSTART;TZID=Pacific/Auckland:20260507T160000
DTEND;TZID=Pacific/Auckland:20260507T180000
DESCRIPTION:Property ID# 606450\nLocation: Ray White Rangiora\, Level 1\, 1
 88 High Street\, Rangiora\nTime: 2026-05-07 16:00:00 +1200\nhttps://www.nz
 .open2view.com/properties/606450
SUMMARY:Auction for 16 Calvandra Grove
END:VEVENT
END:VCALENDAR
