BEGIN:VCALENDAR
VERSION:2.0
PRODID:icalendar-ruby
CALSCALE:GREGORIAN
BEGIN:VEVENT
DTSTAMP:20260420T182902Z
UID:0deec363-581b-44c2-adcd-a7cb82456311
DTSTART;TZID=Pacific/Auckland:20260513T130000
DTEND;TZID=Pacific/Auckland:20260513T150000
DESCRIPTION:Property ID# 606486\nLocation: Harcourts Paremata at 1pm \nTime
 : 2026-05-13 13:00:00 +1200\nhttps://www.nz.open2view.com/properties/60648
 6
SUMMARY:Tender for 4 Botany Lane\, Whitby
END:VEVENT
END:VCALENDAR
