BEGIN:VCALENDAR
VERSION:2.0
PRODID:icalendar-ruby
CALSCALE:GREGORIAN
BEGIN:VEVENT
DTSTAMP:20260423T201331Z
UID:7ea0e810-ac61-4ab2-bac0-f538142e2025
DTSTART;TZID=Pacific/Auckland:20260506T160000
DTEND;TZID=Pacific/Auckland:20260506T180000
DESCRIPTION:Property ID# 606714\nTime: 2026-05-06 16:00:00 +1200\nhttps://w
 ww.nz.open2view.com/properties/606714
SUMMARY:Deadline Private Treaty for 34 Inch Crescent
END:VEVENT
END:VCALENDAR
