BEGIN:VCALENDAR
VERSION:2.0
PRODID:icalendar-ruby
CALSCALE:GREGORIAN
BEGIN:VEVENT
DTSTAMP:20260423T022350Z
UID:acabe0fe-a28d-4c79-bc0b-e09a6c3607b7
DTSTART;TZID=Pacific/Auckland:20260512T120000
DTEND;TZID=Pacific/Auckland:20260512T140000
DESCRIPTION:Property ID# 606720\nTime: 2026-05-12 12:00:00 +1200\nhttps://w
 ww.nz.open2view.com/properties/606720
SUMMARY:Deadline Private Treaty for 11 Matanui Street
END:VEVENT
END:VCALENDAR
