BEGIN:VCALENDAR
VERSION:2.0
PRODID:icalendar-ruby
CALSCALE:GREGORIAN
BEGIN:VEVENT
DTSTAMP:20260420T182902Z
UID:3b70d535-704f-4356-8af1-e23d26f82788
DTSTART;TZID=Pacific/Auckland:20260513T120000
DTEND;TZID=Pacific/Auckland:20260513T140000
DESCRIPTION:Property ID# 606767\nLocation: Clark & Co Realty\, 7 Mana Espla
 nade Paremata.\nTime: 2026-05-13 12:00:00 +1200\nhttps://www.nz.open2view.
 com/properties/606767
SUMMARY:Set Date of Sale for 22A Main Road
END:VEVENT
END:VCALENDAR
