BEGIN:VCALENDAR
VERSION:2.0
PRODID:icalendar-ruby
CALSCALE:GREGORIAN
BEGIN:VEVENT
DTSTAMP:20260421T122556Z
UID:ad00634e-572f-4972-abb7-3c75f14d1a95
DTSTART;TZID=Pacific/Auckland:20260513T120000
DTEND;TZID=Pacific/Auckland:20260513T140000
DESCRIPTION:Property ID# 606808\nLocation: In Rooms at Ray White Manukau Of
 fice\nTime: 2026-05-13 12:00:00 +1200\nhttps://www.nz.open2view.com/proper
 ties/606808
SUMMARY:Auction for 37 Chieftain Rise
END:VEVENT
END:VCALENDAR
