BEGIN:VCALENDAR
VERSION:2.0
PRODID:icalendar-ruby
CALSCALE:GREGORIAN
BEGIN:VEVENT
DTSTAMP:20260425T194059Z
UID:aaaa3fd0-8fab-4fad-9ef6-d00c4fe60c80
DTSTART;TZID=Pacific/Auckland:20260507T110000
DTEND;TZID=Pacific/Auckland:20260507T130000
DESCRIPTION:Property ID# 606856\nTime: 2026-05-07 11:00:00 +1200\nhttps://w
 ww.nz.open2view.com/properties/606856
SUMMARY:Auction for 1 Swaffield Road
END:VEVENT
END:VCALENDAR
