BEGIN:VCALENDAR
VERSION:2.0
PRODID:icalendar-ruby
CALSCALE:GREGORIAN
BEGIN:VEVENT
DTSTAMP:20260420T182901Z
UID:e9b4b986-5262-4cd9-a6ad-eacc8cc826bd
DTSTART;TZID=Pacific/Auckland:20260507T110000
DTEND;TZID=Pacific/Auckland:20260507T130000
DESCRIPTION:Property ID# 606860\nLocation: Harcourts Grenadier\, 98 Moorhou
 se Avenue (unless sold prior)\nTime: 2026-05-07 11:00:00 +1200\nhttps://ww
 w.nz.open2view.com/properties/606860
SUMMARY:Auction for 124B Glandovey Road
END:VEVENT
END:VCALENDAR
