BEGIN:VCALENDAR
VERSION:2.0
PRODID:icalendar-ruby
CALSCALE:GREGORIAN
BEGIN:VEVENT
DTSTAMP:20260421T121914Z
UID:e55517e0-b5f6-4e16-bc74-ae582e9fcfbc
DTSTART;TZID=Pacific/Auckland:20260521T130000
DTEND;TZID=Pacific/Auckland:20260521T150000
DESCRIPTION:Property ID# 606866\nLocation: Auction Rooms\, 247 Cameron Road
 \, Tauranga. Unless sold prior\nTime: 2026-05-21 13:00:00 +1200\nhttps://w
 ww.nz.open2view.com/properties/606866
SUMMARY:Auction for 2 Harper Way
END:VEVENT
END:VCALENDAR
