BEGIN:VCALENDAR
VERSION:2.0
PRODID:icalendar-ruby
CALSCALE:GREGORIAN
BEGIN:VEVENT
DTSTAMP:20260423T182406Z
UID:1bd24c4c-6fc6-430e-9844-d85e54e18198
DTSTART;TZID=Pacific/Auckland:20260514T100000
DTEND;TZID=Pacific/Auckland:20260514T120000
DESCRIPTION:Property ID# 606883\nLocation: 471 Papanui Road\, Gold Auction 
 Rooms (USP)\nTime: 2026-05-14 10:00:00 +1200\nhttps://www.nz.open2view.com
 /properties/606883
SUMMARY:Auction for 12 Marble Wood Drive
END:VEVENT
END:VCALENDAR
