BEGIN:VCALENDAR
VERSION:2.0
PRODID:icalendar-ruby
CALSCALE:GREGORIAN
BEGIN:VEVENT
DTSTAMP:20260421T122445Z
UID:50bd79cf-8cba-40b3-9edf-11e20428259c
DTSTART;TZID=Pacific/Auckland:20260513T113000
DTEND;TZID=Pacific/Auckland:20260513T133000
DESCRIPTION:Property ID# 606909\nLocation: Harcourts Auction Rooms\, 1 Thir
 d Avenue\, Tauranga\nTime: 2026-05-13 11:30:00 +1200\nhttps://www.nz.open2
 view.com/properties/606909
SUMMARY:Auction for 4A London Place
END:VEVENT
END:VCALENDAR
