BEGIN:VCALENDAR
VERSION:2.0
PRODID:icalendar-ruby
CALSCALE:GREGORIAN
BEGIN:VEVENT
DTSTAMP:20260423T182503Z
UID:1369c592-20b2-4d29-828b-6581e092c726
DTSTART;TZID=Pacific/Auckland:20260521T160000
DTEND;TZID=Pacific/Auckland:20260521T180000
DESCRIPTION:Property ID# 606924\nTime: 2026-05-21 16:00:00 +1200\nhttps://w
 ww.nz.open2view.com/properties/606924
SUMMARY:Deadline Marketing for 1A Pedlar Street
END:VEVENT
END:VCALENDAR
