BEGIN:VCALENDAR
VERSION:2.0
PRODID:icalendar-ruby
CALSCALE:GREGORIAN
BEGIN:VEVENT
DTSTAMP:20260425T194059Z
UID:e6276ee1-c65a-4e04-a8b0-1798c01bc747
DTSTART;TZID=Pacific/Auckland:20260514T160000
DTEND;TZID=Pacific/Auckland:20260514T180000
DESCRIPTION:Property ID# 606955\nTime: 2026-05-14 16:00:00 +1200\nhttps://w
 ww.nz.open2view.com/properties/606955
SUMMARY:Deadline Marketing for 4B Lupton Road
END:VEVENT
END:VCALENDAR
