BEGIN:VCALENDAR
VERSION:2.0
PRODID:icalendar-ruby
CALSCALE:GREGORIAN
BEGIN:VEVENT
DTSTAMP:20260422T205800Z
UID:9137f932-6dbd-4eac-b739-a10b475b2ffb
DTSTART;TZID=Pacific/Auckland:20260515T110000
DTEND;TZID=Pacific/Auckland:20260515T130000
DESCRIPTION:Property ID# 606960\nLocation: 1/77 Thorndon Quay Wellington\nT
 ime: 2026-05-15 11:00:00 +1200\nhttps://www.nz.open2view.com/properties/60
 6960
SUMMARY:Auction for 111 Queens Drive
END:VEVENT
END:VCALENDAR
