BEGIN:VCALENDAR
VERSION:2.0
PRODID:icalendar-ruby
CALSCALE:GREGORIAN
BEGIN:VEVENT
DTSTAMP:20260422T205759Z
UID:ae2f770a-3ef9-4a55-9c33-18b788769b99
DTSTART;TZID=Pacific/Auckland:20260507T140000
DTEND;TZID=Pacific/Auckland:20260507T160000
DESCRIPTION:Property ID# 606961\nLocation: Level 1\, 77 Thorndon Quay\, Tho
 rndon\nTime: 2026-05-07 14:00:00 +1200\nhttps://www.nz.open2view.com/prope
 rties/606961
SUMMARY:Tender for 2A Downing Street
END:VEVENT
END:VCALENDAR
