BEGIN:VCALENDAR
VERSION:2.0
PRODID:icalendar-ruby
CALSCALE:GREGORIAN
BEGIN:VEVENT
DTSTAMP:20260421T122814Z
UID:5091d3ca-b151-4181-bd45-3407a6fb0f90
DTSTART;TZID=Pacific/Auckland:20260514T140000
DTEND;TZID=Pacific/Auckland:20260514T160000
DESCRIPTION:Property ID# 606971\nLocation: Harcourts office\, 256 The Stran
 d\, Whakatane\nTime: 2026-05-14 14:00:00 +1200\nhttps://www.nz.open2view.c
 om/properties/606971
SUMMARY:Deadline Private Treaty for 24 Kope Drain Road
END:VEVENT
END:VCALENDAR
