BEGIN:VCALENDAR
VERSION:2.0
PRODID:icalendar-ruby
CALSCALE:GREGORIAN
BEGIN:VEVENT
DTSTAMP:20260424T225759Z
UID:4a3e6ea8-d451-45b8-aa8e-7f5299bc6e59
DTSTART;TZID=Pacific/Auckland:20260513T100000
DTEND;TZID=Pacific/Auckland:20260513T120000
DESCRIPTION:Property ID# 606999\nLocation: Russley Golf Club\, 428 Memorial
  Avenue\, Burnside\nTime: 2026-05-13 10:00:00 +1200\nhttps://www.nz.open2v
 iew.com/properties/606999
SUMMARY:Auction for 4 Rangiora Woodend Road
END:VEVENT
END:VCALENDAR
