BEGIN:VCALENDAR
VERSION:2.0
PRODID:icalendar-ruby
CALSCALE:GREGORIAN
BEGIN:VEVENT
DTSTAMP:20260422T205800Z
UID:42f3fb59-3b57-44d1-8591-84062a558cd4
DTSTART;TZID=Pacific/Auckland:20260521T160000
DTEND;TZID=Pacific/Auckland:20260521T180000
DESCRIPTION:Property ID# 607030\nTime: 2026-05-21 16:00:00 +1200\nhttps://w
 ww.nz.open2view.com/properties/607030
SUMMARY:Auction for 302/2A Truro Road
END:VEVENT
END:VCALENDAR
