BEGIN:VCALENDAR
VERSION:2.0
PRODID:icalendar-ruby
CALSCALE:GREGORIAN
BEGIN:VEVENT
DTSTAMP:20260425T194059Z
UID:fb01f5f5-c915-4bd0-9191-5f31e3c78e77
DTSTART;TZID=Pacific/Auckland:20260521T130000
DTEND;TZID=Pacific/Auckland:20260521T150000
DESCRIPTION:Property ID# 607036\nLocation: Auction Rooms\, 247 Cameron Road
 \, Tauranga. Unless sold prior\nTime: 2026-05-21 13:00:00 +1200\nhttps://w
 ww.nz.open2view.com/properties/607036
SUMMARY:Auction for 35 Clivedene Street
END:VEVENT
END:VCALENDAR
