BEGIN:VCALENDAR
VERSION:2.0
PRODID:icalendar-ruby
CALSCALE:GREGORIAN
BEGIN:VEVENT
DTSTAMP:20260422T205757Z
UID:4480058e-f9d4-4e07-a47d-fa09ae2eb156
DTSTART;TZID=Pacific/Auckland:20260514T010000
DTEND;TZID=Pacific/Auckland:20260514T030000
DESCRIPTION:Property ID# 607037\nLocation: In rooms\nTime: 2026-05-14 01:00
 :00 +1200\nhttps://www.nz.open2view.com/properties/607037
SUMMARY:Auction for 61 Hill Road
END:VEVENT
END:VCALENDAR
