BEGIN:VCALENDAR
VERSION:2.0
PRODID:icalendar-ruby
CALSCALE:GREGORIAN
BEGIN:VEVENT
DTSTAMP:20260422T211310Z
UID:875e0ac8-ee91-478d-822c-c5808135ed51
DTSTART;TZID=Pacific/Auckland:20260604T140000
DTEND;TZID=Pacific/Auckland:20260604T160000
DESCRIPTION:Property ID# 607038\nTime: 2026-06-04 14:00:00 +1200\nhttps://w
 ww.nz.open2view.com/properties/607038
SUMMARY:Tender for 7F Owens Place
END:VEVENT
END:VCALENDAR
