BEGIN:VCALENDAR
VERSION:2.0
PRODID:icalendar-ruby
CALSCALE:GREGORIAN
BEGIN:VEVENT
DTSTAMP:20260421T122347Z
UID:373bcc59-57e7-4021-ad7a-c01b0164ebb2
DTSTART;TZID=Pacific/Auckland:20260521T130000
DTEND;TZID=Pacific/Auckland:20260521T150000
DESCRIPTION:Property ID# 607039\nLocation: Auction Rooms\, 247 Cameron Road
 \, Tauranga. Unless sold prior\nTime: 2026-05-21 13:00:00 +1200\nhttps://w
 ww.nz.open2view.com/properties/607039
SUMMARY:Auction for 64B Sixteenth Avenue
END:VEVENT
END:VCALENDAR
