BEGIN:VCALENDAR
VERSION:2.0
PRODID:icalendar-ruby
CALSCALE:GREGORIAN
BEGIN:VEVENT
DTSTAMP:20260423T182539Z
UID:15240aca-ad04-4a5a-851d-7975b1cc7837
DTSTART;TZID=Pacific/Auckland:20260513T120000
DTEND;TZID=Pacific/Auckland:20260513T140000
DESCRIPTION:Property ID# 607050\nLocation: at 11:30am\, Harcourts Auction R
 oom\, 1 Third Avenue\, Tauranga\nTime: 2026-05-13 12:00:00 +1200\nhttps://
 www.nz.open2view.com/properties/607050
SUMMARY:Auction for 10 Evansbel Place
END:VEVENT
END:VCALENDAR
