BEGIN:VCALENDAR
VERSION:2.0
PRODID:icalendar-ruby
CALSCALE:GREGORIAN
BEGIN:VEVENT
DTSTAMP:20260421T122556Z
UID:f568682a-ad0d-4e1f-9e15-f1609f756f14
DTSTART;TZID=Pacific/Auckland:20260513T120000
DTEND;TZID=Pacific/Auckland:20260513T140000
DESCRIPTION:Property ID# 607082\nLocation: at 11:30am\, Harcourts Auction R
 oom\, 1 Third Avenue\, Tauranga\nTime: 2026-05-13 12:00:00 +1200\nhttps://
 www.nz.open2view.com/properties/607082
SUMMARY:Auction for 2 Santa Fe Key
END:VEVENT
END:VCALENDAR
