BEGIN:VCALENDAR
VERSION:2.0
PRODID:icalendar-ruby
CALSCALE:GREGORIAN
BEGIN:VEVENT
DTSTAMP:20260424T224214Z
UID:16c0058e-6228-4823-87bb-b939a73eae12
DTSTART;TZID=Pacific/Auckland:20260513T130000
DTEND;TZID=Pacific/Auckland:20260513T150000
DESCRIPTION:Property ID# 607115\nTime: 2026-05-13 13:00:00 +1200\nhttps://w
 ww.nz.open2view.com/properties/607115
SUMMARY:Tender for 32F Bunyan Road
END:VEVENT
END:VCALENDAR
