BEGIN:VCALENDAR
VERSION:2.0
PRODID:icalendar-ruby
CALSCALE:GREGORIAN
BEGIN:VEVENT
DTSTAMP:20260423T182503Z
UID:7513eb77-3737-46c9-9f80-2ddcfe98a7f1
DTSTART;TZID=Pacific/Auckland:20260513T160000
DTEND;TZID=Pacific/Auckland:20260513T180000
DESCRIPTION:Property ID# 607138\nTime: 2026-05-13 16:00:00 +1200\nhttps://w
 ww.nz.open2view.com/properties/607138
SUMMARY:Deadline Marketing for 187 Matapihi Road
END:VEVENT
END:VCALENDAR
