BEGIN:VCALENDAR
VERSION:2.0
PRODID:icalendar-ruby
CALSCALE:GREGORIAN
BEGIN:VEVENT
DTSTAMP:20260423T182503Z
UID:5c52b4c3-0d23-4cd6-847b-c578b3c9a100
DTSTART;TZID=Pacific/Auckland:20260514T120000
DTEND;TZID=Pacific/Auckland:20260514T140000
DESCRIPTION:Property ID# 607140\nLocation: Eves Auction Rooms\, 247 Cameron
  Road\, Tauranga\nTime: 2026-05-14 12:00:00 +1200\nhttps://www.nz.open2vie
 w.com/properties/607140
SUMMARY:Auction for 655 Grenada Street
END:VEVENT
END:VCALENDAR
