BEGIN:VCALENDAR
VERSION:2.0
PRODID:icalendar-ruby
CALSCALE:GREGORIAN
BEGIN:VEVENT
DTSTAMP:20260423T182406Z
UID:699495e6-b4c1-4c02-b834-e5a6556abb3d
DTSTART;TZID=Pacific/Auckland:20260513T113000
DTEND;TZID=Pacific/Auckland:20260513T133000
DESCRIPTION:Property ID# 607189\nLocation: Harcourts Auction Room\, 1 Third
  Avenue\, Tauranga\nTime: 2026-05-13 11:30:00 +1200\nhttps://www.nz.open2v
 iew.com/properties/607189
SUMMARY:Auction for 25 Raymond Avenue
END:VEVENT
END:VCALENDAR
