BEGIN:VCALENDAR
VERSION:2.0
PRODID:icalendar-ruby
CALSCALE:GREGORIAN
BEGIN:VEVENT
DTSTAMP:20260424T225636Z
UID:718bbcca-df3a-4472-bc49-a87fb708d5f7
DTSTART;TZID=Pacific/Auckland:20260513T113000
DTEND;TZID=Pacific/Auckland:20260513T133000
DESCRIPTION:Property ID# 607296\nLocation: Harcourts Auction Room\, 1 Third
  Avenue\, Tauranga\nTime: 2026-05-13 11:30:00 +1200\nhttps://www.nz.open2v
 iew.com/properties/607296
SUMMARY:Auction for 30 Russley Drive
END:VEVENT
END:VCALENDAR
