BEGIN:VCALENDAR
VERSION:2.0
PRODID:icalendar-ruby
CALSCALE:GREGORIAN
BEGIN:VEVENT
DTSTAMP:20260424T225743Z
UID:96a1a4a7-c0ac-499a-8678-b8a27b865f9b
DTSTART;TZID=Pacific/Auckland:20260514T130000
DTEND;TZID=Pacific/Auckland:20260514T150000
DESCRIPTION:Property ID# 607297\nLocation: Eves Auction Rooms\, 247 Cameron
  Road\, Tauranga\nTime: 2026-05-14 13:00:00 +1200\nhttps://www.nz.open2vie
 w.com/properties/607297
SUMMARY:Auction for 99 Beach Road
END:VEVENT
END:VCALENDAR
