BEGIN:VCALENDAR
VERSION:2.0
PRODID:icalendar-ruby
CALSCALE:GREGORIAN
BEGIN:VEVENT
DTSTAMP:20260420T183027Z
UID:aab26b04-7ac3-48de-a588-7b74694aa786
DTSTART;TZID=Pacific/Auckland:20260422T171500
DTEND;TZID=Pacific/Auckland:20260422T174500
DESCRIPTION:Property ID# 606486\nhttps://www.nz.open2view.com/properties/60
 6486
SUMMARY:Openhome for 4 Botany Lane\, Whitby
END:VEVENT
END:VCALENDAR
