BEGIN:VCALENDAR
VERSION:2.0
PRODID:icalendar-ruby
CALSCALE:GREGORIAN
BEGIN:VEVENT
DTSTAMP:20260420T201946Z
UID:ea7d7a22-3fdf-4921-bdbb-da3ced03eb6e
DTSTART;TZID=Pacific/Auckland:20260421T120000
DTEND;TZID=Pacific/Auckland:20260421T123000
DESCRIPTION:Property ID# 606197\nhttps://www.nz.open2view.com/properties/60
 6197
SUMMARY:Openhome for 493 Karaka Bay Road
END:VEVENT
END:VCALENDAR
