BEGIN:VCALENDAR
VERSION:2.0
PRODID:icalendar-ruby
CALSCALE:GREGORIAN
BEGIN:VEVENT
DTSTAMP:20260423T004124Z
UID:ae159e55-42de-4159-a317-db56143861fb
DTSTART;TZID=Pacific/Auckland:20260426T140000
DTEND;TZID=Pacific/Auckland:20260426T143000
DESCRIPTION:Property ID# 604709\nhttps://www.nz.open2view.com/properties/60
 4709
SUMMARY:Openhome for 64 Airlie Road\, Plimmerton
END:VEVENT
END:VCALENDAR
