BEGIN:VCALENDAR
VERSION:2.0
PRODID:icalendar-ruby
CALSCALE:GREGORIAN
BEGIN:VEVENT
DTSTAMP:20260419T111241Z
UID:9feffd01-8d0b-490c-acd6-fce5eaf64574
DTSTART;TZID=Pacific/Auckland:20260426T120000
DTEND;TZID=Pacific/Auckland:20260426T124500
DESCRIPTION:Property ID# 604839\nhttps://www.nz.open2view.com/properties/60
 4839
SUMMARY:Openhome for 54 Dunkeld Drive
END:VEVENT
END:VCALENDAR
