BEGIN:VCALENDAR
VERSION:2.0
PRODID:icalendar-ruby
CALSCALE:GREGORIAN
BEGIN:VEVENT
DTSTAMP:20260421T021410Z
UID:c0e0da8c-0f02-4967-b3a2-7adc01ee7696
DTSTART;TZID=Pacific/Auckland:20260426T120000
DTEND;TZID=Pacific/Auckland:20260426T123000
DESCRIPTION:Property ID# 606434\nhttps://www.nz.open2view.com/properties/60
 6434
SUMMARY:Openhome for 30 Seabreeze Place
END:VEVENT
END:VCALENDAR
