BEGIN:VCALENDAR
VERSION:2.0
PRODID:icalendar-ruby
CALSCALE:GREGORIAN
BEGIN:VEVENT
DTSTAMP:20260421T100108Z
UID:debb6e3b-593c-4702-b19a-1a6fad8a3a81
DTSTART;TZID=Pacific/Auckland:20260426T120000
DTEND;TZID=Pacific/Auckland:20260426T123000
DESCRIPTION:Property ID# 605422\nhttps://www.nz.open2view.com/properties/60
 5422
SUMMARY:Openhome for 8 Blossom Grove
END:VEVENT
END:VCALENDAR
