BEGIN:VCALENDAR
VERSION:2.0
PRODID:icalendar-ruby
CALSCALE:GREGORIAN
BEGIN:VEVENT
DTSTAMP:20260425T035321Z
UID:73930347-4fda-409f-9827-2ee470b46c4b
DTSTART;TZID=Pacific/Auckland:20260426T120000
DTEND;TZID=Pacific/Auckland:20260426T123000
DESCRIPTION:Property ID# 604770\nhttps://www.nz.open2view.com/properties/60
 4770
SUMMARY:Openhome for 44 Sapphire Drive
END:VEVENT
END:VCALENDAR
