BEGIN:VCALENDAR
VERSION:2.0
PRODID:icalendar-ruby
CALSCALE:GREGORIAN
BEGIN:VEVENT
DTSTAMP:20260420T125404Z
UID:175ad26d-c540-4a3b-be27-5941fe08fa32
DTSTART;TZID=Pacific/Auckland:20260426T130000
DTEND;TZID=Pacific/Auckland:20260426T133000
DESCRIPTION:Property ID# 605365\nhttps://www.nz.open2view.com/properties/60
 5365
SUMMARY:Openhome for 2 Furn Park Lane
END:VEVENT
END:VCALENDAR
