BEGIN:VCALENDAR
VERSION:2.0
PRODID:icalendar-ruby
CALSCALE:GREGORIAN
BEGIN:VEVENT
DTSTAMP:20260423T182728Z
UID:9e087c0a-9183-4fdd-8b76-bca0e563ef2a
DTSTART;TZID=Pacific/Auckland:20260426T120000
DTEND;TZID=Pacific/Auckland:20260426T123000
DESCRIPTION:Property ID# 606436\nhttps://www.nz.open2view.com/properties/60
 6436
SUMMARY:Openhome for 56 Raukawa Drive
END:VEVENT
END:VCALENDAR
