BEGIN:VCALENDAR
VERSION:2.0
PRODID:icalendar-ruby
CALSCALE:GREGORIAN
BEGIN:VEVENT
DTSTAMP:20260424T144537Z
UID:f1df6338-4df7-48e6-a064-e9242fd87a93
DTSTART;TZID=Pacific/Auckland:20260426T140000
DTEND;TZID=Pacific/Auckland:20260426T143000
DESCRIPTION:Property ID# 606432\nhttps://www.nz.open2view.com/properties/60
 6432
SUMMARY:Openhome for 4 O'Connor Way
END:VEVENT
END:VCALENDAR
