BEGIN:VCALENDAR
VERSION:2.0
PRODID:icalendar-ruby
CALSCALE:GREGORIAN
BEGIN:VEVENT
DTSTAMP:20260424T225953Z
UID:5f209731-bf0c-468f-87f0-9bfbcd5e3402
DTSTART;TZID=Pacific/Auckland:20260426T124500
DTEND;TZID=Pacific/Auckland:20260426T131500
DESCRIPTION:Property ID# 604625\nhttps://www.nz.open2view.com/properties/60
 4625
SUMMARY:Openhome for 19 Phoenix Heights
END:VEVENT
END:VCALENDAR
