BEGIN:VCALENDAR
VERSION:2.0
PRODID:icalendar-ruby
CALSCALE:GREGORIAN
BEGIN:VEVENT
DTSTAMP:20260421T210345Z
UID:866cb346-4d2e-4e7e-b787-3275a952b321
DTSTART;TZID=Pacific/Auckland:20260426T133000
DTEND;TZID=Pacific/Auckland:20260426T140000
DESCRIPTION:Property ID# 606291\nhttps://www.nz.open2view.com/properties/60
 6291
SUMMARY:Openhome for 147 James Street
END:VEVENT
END:VCALENDAR
