BEGIN:VCALENDAR
VERSION:2.0
PRODID:icalendar-ruby
CALSCALE:GREGORIAN
BEGIN:VEVENT
DTSTAMP:20260421T082034Z
UID:3e207ea7-562b-4874-a3db-f1202a188cec
DTSTART;TZID=Pacific/Auckland:20260426T143000
DTEND;TZID=Pacific/Auckland:20260426T150000
DESCRIPTION:Property ID# 604946\nhttps://www.nz.open2view.com/properties/60
 4946
SUMMARY:Openhome for 1/160 King Street
END:VEVENT
END:VCALENDAR
